BEGIN:VCALENDAR
VERSION:2.0
CALSCALE:GREGORIAN
PRODID:adamgibbons/ics
METHOD:PUBLISH
X-PUBLISHED-TTL:PT1H
BEGIN:VEVENT
UID:gi-b9iRJyve60-I0Jrrt3
SUMMARY:Critique 
DTSTAMP:20260421T111728Z
DTSTART:20260420T230000Z
DTEND:20260421T010000Z
DESCRIPTION:Serving the People is a 501(c)(3) non-profit organization that 
	host weekly in-person discussions\, offering a space for collaboration and
	 discourse. These meetings provide participants with community and the opp
	ortunity to connect and engage in a meaningful dialogue about their work\,
	 ideas\, and experiences.
LOCATION:2811 N 7th Ave
END:VEVENT
END:VCALENDAR
