BEGIN:VCALENDAR
VERSION:2.0
CALSCALE:GREGORIAN
PRODID:adamgibbons/ics
METHOD:PUBLISH
X-PUBLISHED-TTL:PT1H
BEGIN:VEVENT
UID:Ci9wFuCf0shWCUU1TLy2j
SUMMARY:Show and Tell (Crit)
DTSTAMP:20260424T142738Z
DTSTART:20260309T180000Z
DTEND:20260309T200000Z
DESCRIPTION:This Monday\, we’re doing something different: a crit session w
	here participants present work and receive feedback from the group.\n\nBri
	ng a project\, finished\, in progress\, or just beginning. Something you’r
	e working on\, something you’re stuck on\, something you want outside eyes
	 on. We’ll create space for each person to share their work and open it up
	 for constructive dialogue.\n\nThis is also a chance to actually see what 
	everyone in this room is making. We’ve heard repeatedly that people want t
	o know more about each other’s practices\, what you’re building\, what you
	’re wrestling with\, what you’re putting out into the world.\n\nWhether yo
	u need feedback\, want to test ideas\, or just want to make your work visi
	ble to this community\, bring it.\n\nServing the People is a 501(c)(3) non
	-profit organization that host weekly in-person discussions\, offering a s
	pace for collaboration and discourse. These meetings provide participants 
	with community and the opportunity to connect and engage in a meaningful d
	ialogue about their work\, ideas\, and experiences.
LOCATION:10 rue Henri Chevreau
END:VEVENT
END:VCALENDAR
