BEGIN:VCALENDAR
VERSION:2.0
CALSCALE:GREGORIAN
PRODID:adamgibbons/ics
METHOD:PUBLISH
X-PUBLISHED-TTL:PT1H
BEGIN:VEVENT
UID:iF2sLmOu1U_fmO6hkPnQ4
SUMMARY:Local Creativity\, Local War: Creating dialogues between cities dur
	ing wartime
DTSTAMP:20260424T142706Z
DTSTART:20260422T233000Z
DTEND:20260423T013000Z
DESCRIPTION:Serving the People is a 501(c)(3) non-profit organization that 
	host weekly in-person discussions\, offering a space for collaboration and
	 discourse. These meetings provide participants with community and the opp
	ortunity to connect and engage in a meaningful dialogue about their work\,
	 ideas\, and experiences.
LOCATION:602 E 9th Street
END:VEVENT
END:VCALENDAR
