BEGIN:VCALENDAR
VERSION:2.0
CALSCALE:GREGORIAN
PRODID:adamgibbons/ics
METHOD:PUBLISH
X-PUBLISHED-TTL:PT1H
BEGIN:VEVENT
UID:Bhr6e0li6xq1NVWPN9vn5
SUMMARY:Open Discussion
DTSTAMP:20260421T102645Z
DTSTART:20260415T170000Z
DTEND:20260415T190000Z
DESCRIPTION:Serving the People is a 501(c)(3) non-profit organization that 
	host weekly in-person discussions\, offering a space for collaboration and
	 discourse. These meetings provide participants with community and the opp
	ortunity to connect and engage in a meaningful dialogue about their work\,
	 ideas\, and experiences.
LOCATION: Via Plinio\, 29
END:VEVENT
END:VCALENDAR
