BEGIN:VCALENDAR
VERSION:2.0
CALSCALE:GREGORIAN
PRODID:adamgibbons/ics
METHOD:PUBLISH
X-PUBLISHED-TTL:PT1H
BEGIN:VEVENT
UID:qYv-_MkGPqDIABkcbxczJ
SUMMARY:Re-group / check-in 
DTSTAMP:20260424T142120Z
DTSTART:20260423T023000Z
DTEND:20260423T043000Z
DESCRIPTION:Serving the People is a 501(c)(3) non-profit organization that 
	host weekly in-person discussions\, offering a space for collaboration and
	 discourse. These meetings provide participants with community and the opp
	ortunity to connect and engage in a meaningful dialogue about their work\,
	 ideas\, and experiences.
LOCATION:7151 Beverly Blvd. 
END:VEVENT
END:VCALENDAR
